BEGIN:VCALENDAR
VERSION:2.0
PRODID:-//The Andrew J Brady Music Center//bradymusiccenter.com//EN
CALSCALE:GREGORIAN
BEGIN:VEVENT
UID:https://bradymusiccenter.com/events/2026/10/the-story-so-far#407
DTSTAMP:20260420T210642Z
SUMMARY:The Story So Far
DTSTART;TZID=America/New_York:20261030T173000
DTEND;TZID=America/New_York:20261030T203000
DESCRIPTION:with The Starting Line\, Ultra Q
LOCATION:The Andrew J Brady Music Center\n25 Race Street\nCincinnati\, OH 4
 5202
URL;VALUE=URI:https://bradymusiccenter.com/events/2026/10/the-story-so-far
END:VEVENT
END:VCALENDAR
